BEGIN:VCALENDAR
VERSION:2.0
PRODID:-//Petoskey Wine Region - ECPv6.15.16//NONSGML v1.0//EN
CALSCALE:GREGORIAN
METHOD:PUBLISH
X-WR-CALNAME:Petoskey Wine Region
X-ORIGINAL-URL:https://petoskey.wine
X-WR-CALDESC:Events for Petoskey Wine Region
REFRESH-INTERVAL;VALUE=DURATION:PT1H
X-Robots-Tag:noindex
X-PUBLISHED-TTL:PT1H
BEGIN:VTIMEZONE
TZID:America/Detroit
BEGIN:DAYLIGHT
TZOFFSETFROM:-0500
TZOFFSETTO:-0400
TZNAME:EDT
DTSTART:20240310T070000
END:DAYLIGHT
BEGIN:STANDARD
TZOFFSETFROM:-0400
TZOFFSETTO:-0500
TZNAME:EST
DTSTART:20241103T060000
END:STANDARD
BEGIN:DAYLIGHT
TZOFFSETFROM:-0500
TZOFFSETTO:-0400
TZNAME:EDT
DTSTART:20250309T070000
END:DAYLIGHT
BEGIN:STANDARD
TZOFFSETFROM:-0400
TZOFFSETTO:-0500
TZNAME:EST
DTSTART:20251102T060000
END:STANDARD
BEGIN:DAYLIGHT
TZOFFSETFROM:-0500
TZOFFSETTO:-0400
TZNAME:EDT
DTSTART:20260308T070000
END:DAYLIGHT
BEGIN:STANDARD
TZOFFSETFROM:-0400
TZOFFSETTO:-0500
TZNAME:EST
DTSTART:20261101T060000
END:STANDARD
END:VTIMEZONE
BEGIN:VEVENT
DTSTART;TZID=America/Detroit:20251107T080000
DTEND;TZID=America/Detroit:20251109T170000
DTSTAMP:20260421T220048
CREATED:20251010T134331Z
LAST-MODIFIED:20251029T130023Z
UID:257691-1762502400-1762707600@petoskey.wine
SUMMARY:Soups\, Stews and Chili Weekend
DESCRIPTION:Travel around to our participating wineries for Soups\, Stews and Chili Weekend. \n$12 at each winery and you will receive a 6oz pour with a 4oz cup of soup\, stew\, or chili. \nDuring operating hours of the wineries. \nMust be 21+ years old \nParticipating Wineries: \nCellar 1914\, Royal Farms\, Blu Dot\, Spare Key\, Rudbeckia\, Walloon Lake\, Resort Pike\, Mackinaw Trail\, Maple Moon\, Seasons of the North
URL:https://petoskey.wine/event/soups-stews-and-chili-weekend/
ATTACH;FMTTYPE=image/png:https://petoskey.wine/wp-content/uploads/2025/10/Soups-Stews-and-Chili-2.png
END:VEVENT
END:VCALENDAR